BEGIN:VCALENDAR
VERSION:2.0
PRODID:-//Paroisse Saint-Pierre-Saint-Paul de Courbevoie - ECPv6.15.20//NONSGML v1.0//EN
CALSCALE:GREGORIAN
METHOD:PUBLISH
X-WR-CALNAME:Paroisse Saint-Pierre-Saint-Paul de Courbevoie
X-ORIGINAL-URL:https://spsp-courbevoie.fr
X-WR-CALDESC:Évènements pour Paroisse Saint-Pierre-Saint-Paul de Courbevoie
REFRESH-INTERVAL;VALUE=DURATION:PT1H
X-Robots-Tag:noindex
X-PUBLISHED-TTL:PT1H
BEGIN:VTIMEZONE
TZID:UTC
BEGIN:STANDARD
TZOFFSETFROM:+0000
TZOFFSETTO:+0000
TZNAME:UTC
DTSTART:20250101T000000
END:STANDARD
END:VTIMEZONE
BEGIN:VEVENT
DTSTART;VALUE=DATE:20260321
DTEND;VALUE=DATE:20260322
DTSTAMP:20260422T104351
CREATED:20260119T215245Z
LAST-MODIFIED:20260119T215245Z
UID:8543-1774051200-1774137599@spsp-courbevoie.fr
SUMMARY:Marche de Saint Joseph
DESCRIPTION:Marche de Saint-Joseph – Paroisse Saint-Pierre-Saint-Paul de Courbevoie
URL:https://spsp-courbevoie.fr/event/marche-de-saint-joseph-5/
ATTACH;FMTTYPE=image/jpeg:https://spsp-courbevoie.fr/wp-content/uploads/2026/01/marcheStJo.jpg
END:VEVENT
BEGIN:VEVENT
DTSTART;TZID=UTC:20260323T201500
DTEND;TZID=UTC:20260323T201500
DTSTAMP:20260422T104351
CREATED:20260202T220733Z
LAST-MODIFIED:20260212T210256Z
UID:8573-1774296900-1774296900@spsp-courbevoie.fr
SUMMARY:Réunion Pèlerinage des mères Vezelay
DESCRIPTION:
URL:https://spsp-courbevoie.fr/event/reunion-pelerinage-des-meres-vezelay/
LOCATION:Maison paroissiale 4 rue Saint Thomas en Argonne\, 4 rue saint Thomas en Argonne\, COURBEVOIE\, 92400\, France
CATEGORIES:Événements
END:VEVENT
END:VCALENDAR