BEGIN:VCALENDAR
VERSION:2.0
PRODID:-//Paroisse Saint-Pierre-Saint-Paul de Courbevoie - ECPv6.15.20//NONSGML v1.0//EN
CALSCALE:GREGORIAN
METHOD:PUBLISH
X-ORIGINAL-URL:https://spsp-courbevoie.fr
X-WR-CALDESC:Évènements pour Paroisse Saint-Pierre-Saint-Paul de Courbevoie
REFRESH-INTERVAL;VALUE=DURATION:PT1H
X-Robots-Tag:noindex
X-PUBLISHED-TTL:PT1H
BEGIN:VTIMEZONE
TZID:UTC
BEGIN:STANDARD
TZOFFSETFROM:+0000
TZOFFSETTO:+0000
TZNAME:UTC
DTSTART:20230101T000000
END:STANDARD
END:VTIMEZONE
BEGIN:VEVENT
DTSTART;TZID=UTC:20240515T203000
DTEND;TZID=UTC:20240619T223000
DTSTAMP:20260423T152838
CREATED:20240419T214455Z
LAST-MODIFIED:20240419T214455Z
UID:7464-1715805000-1718836200@spsp-courbevoie.fr
SUMMARY:Ecole d'oraison
DESCRIPTION:2024-05 Flyer école d’oraison
URL:https://spsp-courbevoie.fr/event/ecole-doraison/
LOCATION:Chapelle Sainte Therese\, 7 boulevard Saint Denis\, COURBEVOIE\, 92400\, France
CATEGORIES:Événements
END:VEVENT
BEGIN:VEVENT
DTSTART;VALUE=DATE:20240608
DTEND;VALUE=DATE:20240609
DTSTAMP:20260423T152838
CREATED:20240221T221433Z
LAST-MODIFIED:20240419T215401Z
UID:7314-1717804800-1717891199@spsp-courbevoie.fr
SUMMARY:Pelerinage paroissial a Lisieux
DESCRIPTION:2024-06-08 Flyer Pèlerinage Lisieux
URL:https://spsp-courbevoie.fr/event/pelerinage-paroissial-a-lisieux/
END:VEVENT
BEGIN:VEVENT
DTSTART;TZID=UTC:20240609T093000
DTEND;TZID=UTC:20240609T093000
DTSTAMP:20260423T152838
CREATED:20231211T215801Z
LAST-MODIFIED:20231211T215801Z
UID:7126-1717925400-1717925400@spsp-courbevoie.fr
SUMMARY:Messe des familles
DESCRIPTION:
URL:https://spsp-courbevoie.fr/event/messe-des-familles-2/
CATEGORIES:catéchisme
END:VEVENT
END:VCALENDAR