BEGIN:VCALENDAR
VERSION:2.0
PRODID:-//Paroisse Saint-Pierre-Saint-Paul de Courbevoie - ECPv6.15.20//NONSGML v1.0//EN
CALSCALE:GREGORIAN
METHOD:PUBLISH
X-WR-CALNAME:Paroisse Saint-Pierre-Saint-Paul de Courbevoie
X-ORIGINAL-URL:https://spsp-courbevoie.fr
X-WR-CALDESC:Évènements pour Paroisse Saint-Pierre-Saint-Paul de Courbevoie
REFRESH-INTERVAL;VALUE=DURATION:PT1H
X-Robots-Tag:noindex
X-PUBLISHED-TTL:PT1H
BEGIN:VTIMEZONE
TZID:UTC
BEGIN:STANDARD
TZOFFSETFROM:+0000
TZOFFSETTO:+0000
TZNAME:UTC
DTSTART:20230101T000000
END:STANDARD
END:VTIMEZONE
BEGIN:VEVENT
DTSTART;TZID=UTC:20240114T093000
DTEND;TZID=UTC:20240114T093000
DTSTAMP:20260423T224610
CREATED:20231211T215345Z
LAST-MODIFIED:20231211T215945Z
UID:7118-1705224600-1705224600@spsp-courbevoie.fr
SUMMARY:Messe des familles
DESCRIPTION:
URL:https://spsp-courbevoie.fr/event/messe-des-familles/
CATEGORIES:catéchisme
END:VEVENT
BEGIN:VEVENT
DTSTART;TZID=UTC:20240114T140000
DTEND;TZID=UTC:20240114T170000
DTSTAMP:20260423T224610
CREATED:20240107T212757Z
LAST-MODIFIED:20240107T212941Z
UID:7200-1705240800-1705251600@spsp-courbevoie.fr
SUMMARY:Café gourmand et ludique
DESCRIPTION:Café gourmand partagé suivi d’un après-midi festif et ludique. Chacun apporte une galette des rois ou des pâtisseries. Nous fournissons les boissons.\nEt si il y a un jeu auquel vous aimez jouer en famille ou avec des amis\, apportez-le ! Vous nous le ferez découvrir !
URL:https://spsp-courbevoie.fr/event/cafe-gourmand-et-ludique/
LOCATION:Maison paroissiale 4 rue Saint Thomas en Argonne\, 4 rue saint Thomas en Argonne\, COURBEVOIE\, 92400\, France
END:VEVENT
BEGIN:VEVENT
DTSTART;TZID=UTC:20240117T190000
DTEND;TZID=UTC:20240117T203000
DTSTAMP:20260423T224610
CREATED:20240107T213153Z
LAST-MODIFIED:20240107T213213Z
UID:7202-1705518000-1705523400@spsp-courbevoie.fr
SUMMARY:Atelier d’aide à la recherche d’emploi
DESCRIPTION:
URL:https://spsp-courbevoie.fr/event/atelier-daide-a-la-recherche-demploi/
LOCATION:Maison paroissiale 4 rue Saint Thomas en Argonne\, 4 rue saint Thomas en Argonne\, COURBEVOIE\, 92400\, France
END:VEVENT
BEGIN:VEVENT
DTSTART;TZID=UTC:20240121T150000
DTEND;TZID=UTC:20240121T170000
DTSTAMP:20260423T224610
CREATED:20240107T213352Z
LAST-MODIFIED:20240107T213425Z
UID:7205-1705849200-1705856400@spsp-courbevoie.fr
SUMMARY:Atelier oralité
DESCRIPTION:
URL:https://spsp-courbevoie.fr/event/atelier-oralite/
LOCATION:Maison paroissiale 4 rue Saint Thomas en Argonne\, 4 rue saint Thomas en Argonne\, COURBEVOIE\, 92400\, France
END:VEVENT
BEGIN:VEVENT
DTSTART;TZID=UTC:20240127T100000
DTEND;TZID=UTC:20240127T120000
DTSTAMP:20260423T224610
CREATED:20240107T213616Z
LAST-MODIFIED:20240107T213616Z
UID:7207-1706349600-1706356800@spsp-courbevoie.fr
SUMMARY:Atelier oralité
DESCRIPTION:
URL:https://spsp-courbevoie.fr/event/atelier-oralite-2/
LOCATION:Maison paroissiale 4 rue Saint Thomas en Argonne\, 4 rue saint Thomas en Argonne\, COURBEVOIE\, 92400\, France
END:VEVENT
END:VCALENDAR