BEGIN:VCALENDAR
VERSION:2.0
PRODID:-//Paroisse Saint-Pierre-Saint-Paul de Courbevoie - ECPv6.15.20//NONSGML v1.0//EN
CALSCALE:GREGORIAN
METHOD:PUBLISH
X-ORIGINAL-URL:https://spsp-courbevoie.fr
X-WR-CALDESC:Évènements pour Paroisse Saint-Pierre-Saint-Paul de Courbevoie
REFRESH-INTERVAL;VALUE=DURATION:PT1H
X-Robots-Tag:noindex
X-PUBLISHED-TTL:PT1H
BEGIN:VTIMEZONE
TZID:UTC
BEGIN:STANDARD
TZOFFSETFROM:+0000
TZOFFSETTO:+0000
TZNAME:UTC
DTSTART:20220101T000000
END:STANDARD
END:VTIMEZONE
BEGIN:VEVENT
DTSTART;TZID=UTC:20231209T203000
DTEND;TZID=UTC:20231209T203000
DTSTAMP:20260424T001637
CREATED:20231119T183523Z
LAST-MODIFIED:20231119T185327Z
UID:7048-1702153800-1702153800@spsp-courbevoie.fr
SUMMARY:Concert de Noël
DESCRIPTION:Petits chanteurs de France : Chants de Noël. \nLes trompettes de Versailles : Lully\, Corrette\,Fleury\, Bessonnet
URL:https://spsp-courbevoie.fr/event/concert-de-noel-4/
LOCATION:Eglise Saint Pierre Saint Paul\, rue des Boudoux\, COURBEVOIE\, 92400\, France
CATEGORIES:Spectacle
ATTACH;FMTTYPE=image/png:https://spsp-courbevoie.fr/wp-content/uploads/2020/12/2020_concertNoel-e1700419996744.png
END:VEVENT
BEGIN:VEVENT
DTSTART;TZID=UTC:20231216T203000
DTEND;TZID=UTC:20231216T220000
DTSTAMP:20260424T001637
CREATED:20231212T191234Z
LAST-MODIFIED:20231212T221129Z
UID:7138-1702758600-1702764000@spsp-courbevoie.fr
SUMMARY:Veillée spirituelle autour de sainte Thérèse
DESCRIPTION:Dans le cadre de l’Avent\, venez participer à la première veillée spirituelle autour de sainte Thérèse \nSainte Thérèse de l’Enfant-Jésus\, de l’enfance à la grâce de Noël 1886\nLouange\, enseignement et méditation.
URL:https://spsp-courbevoie.fr/event/veillee-spirituelle-autour-de-sainte-therese/
LOCATION:Eglise Saint Pierre Saint Paul\, rue des Boudoux\, COURBEVOIE\, 92400\, France
ATTACH;FMTTYPE=image/png:https://spsp-courbevoie.fr/wp-content/uploads/2023/12/tempsnip.png
END:VEVENT
BEGIN:VEVENT
DTSTART;TZID=UTC:20231221T183000
DTEND;TZID=UTC:20231221T183000
DTSTAMP:20260424T001637
CREATED:20231211T220414Z
LAST-MODIFIED:20231211T220414Z
UID:7128-1703183400-1703183400@spsp-courbevoie.fr
SUMMARY:Fête de Noël de l’éveil à la foi
DESCRIPTION:
URL:https://spsp-courbevoie.fr/event/fete-de-noel-de-leveil-a-la-foi-2/
LOCATION:Maison paroissiale 4 rue Saint Thomas en Argonne\, 4 rue saint Thomas en Argonne\, COURBEVOIE\, 92400\, France
CATEGORIES:éveil à la foi
END:VEVENT
BEGIN:VEVENT
DTSTART;TZID=UTC:20231224T170000
DTEND;TZID=UTC:20231224T170000
DTSTAMP:20260424T001637
CREATED:20231212T220224Z
LAST-MODIFIED:20231212T220224Z
UID:7144-1703437200-1703437200@spsp-courbevoie.fr
SUMMARY:Messe de Noël des enfants
DESCRIPTION:
URL:https://spsp-courbevoie.fr/event/messe-de-noel-des-enfants-2/
END:VEVENT
BEGIN:VEVENT
DTSTART;TZID=UTC:20231224T193000
DTEND;TZID=UTC:20231224T220000
DTSTAMP:20260424T001637
CREATED:20231203T175524Z
LAST-MODIFIED:20231212T220310Z
UID:7087-1703446200-1703455200@spsp-courbevoie.fr
SUMMARY:Messes de la veille de Noël
DESCRIPTION:Dimanche 24 décembre : \n17h \n19h30 \n22h
URL:https://spsp-courbevoie.fr/event/messes-de-la-veille-de-noel/
LOCATION:Eglise Saint Pierre Saint Paul\, rue des Boudoux\, COURBEVOIE\, 92400\, France
ATTACH;FMTTYPE=image/jpeg:https://spsp-courbevoie.fr/wp-content/uploads/2020/12/20201211_114257-scaled-e1609084592936.jpg
END:VEVENT
BEGIN:VEVENT
DTSTART;TZID=UTC:20231225T093000
DTEND;TZID=UTC:20231225T120000
DTSTAMP:20260424T001637
CREATED:20231203T175703Z
LAST-MODIFIED:20231203T175736Z
UID:7091-1703496600-1703505600@spsp-courbevoie.fr
SUMMARY:Messes du jour de Noël
DESCRIPTION:Lundi 25 décembre : \n9h30 \n11h00
URL:https://spsp-courbevoie.fr/event/messes-du-jour-de-noel-3/
LOCATION:Eglise Saint Pierre Saint Paul\, rue des Boudoux\, COURBEVOIE\, 92400\, France
ATTACH;FMTTYPE=image/jpeg:https://spsp-courbevoie.fr/wp-content/uploads/2020/12/crecheLong-scaled.jpg
END:VEVENT
BEGIN:VEVENT
DTSTART;TZID=UTC:20231230T123000
DTEND;TZID=UTC:20231230T170000
DTSTAMP:20260424T001637
CREATED:20231212T191607Z
LAST-MODIFIED:20231212T191637Z
UID:7141-1703939400-1703955600@spsp-courbevoie.fr
SUMMARY:Noël solidaire avec les personnes seules
DESCRIPTION:La société saint Vincent de Paul vient en aide aux personnes isolées à domicile et dans les maisons de retraite de Courbevoie. \nNoël est une période de fête mais aussi de solidarité et nous devons nous tourner vers notre prochain !\nDans cet élan de solidarité l’association propose aux personnes seules un déjeuner\, le samedi 30 décembre à 12h30 dans la Maison paroissiale\, suivi d’un après-midi festif avec chansons de Noël\, jeux de société\, douceurs et quelques surprises! Venez passer un bon moment de convivialité et de joie! \nMerci de vous inscrire au préalable auprès de Claudia Soares au 0623029834 ou par mail à : csvpcourbevoie@gmail.com
URL:https://spsp-courbevoie.fr/event/noel-solidaire-avec-les-personnes-seules/
LOCATION:Maison paroissiale 4 rue Saint Thomas en Argonne\, 4 rue saint Thomas en Argonne\, COURBEVOIE\, 92400\, France
ORGANIZER;CN="La soci%C3%A9t%C3%A9 Saint Vincent de Paul":MAILTO:csvpcourbevoie@gmail.com
END:VEVENT
END:VCALENDAR