BEGIN:VCALENDAR
VERSION:2.0
PRODID:-//Paroisse Saint-Pierre-Saint-Paul de Courbevoie - ECPv6.15.20//NONSGML v1.0//EN
CALSCALE:GREGORIAN
METHOD:PUBLISH
X-ORIGINAL-URL:https://spsp-courbevoie.fr
X-WR-CALDESC:Évènements pour Paroisse Saint-Pierre-Saint-Paul de Courbevoie
REFRESH-INTERVAL;VALUE=DURATION:PT1H
X-Robots-Tag:noindex
X-PUBLISHED-TTL:PT1H
BEGIN:VTIMEZONE
TZID:UTC
BEGIN:STANDARD
TZOFFSETFROM:+0000
TZOFFSETTO:+0000
TZNAME:UTC
DTSTART:20200101T000000
END:STANDARD
END:VTIMEZONE
BEGIN:VEVENT
DTSTART;TZID=UTC:20210307T101500
DTEND;TZID=UTC:20210307T104500
DTSTAMP:20260426T000431
CREATED:20210117T184055Z
LAST-MODIFIED:20210117T184055Z
UID:4928-1615112100-1615113900@spsp-courbevoie.fr
SUMMARY:Entretien sur la prière
DESCRIPTION:La part de l’homme dans l’oraison
URL:https://spsp-courbevoie.fr/event/entretien-sur-la-priere-3/
LOCATION:Eglise Saint Pierre Saint Paul\, rue des Boudoux\, COURBEVOIE\, 92400\, France
END:VEVENT
BEGIN:VEVENT
DTSTART;TZID=UTC:20210314T101500
DTEND;TZID=UTC:20210314T104500
DTSTAMP:20260426T000431
CREATED:20210117T184157Z
LAST-MODIFIED:20210117T184157Z
UID:4930-1615716900-1615718700@spsp-courbevoie.fr
SUMMARY:Entretien sur la prière
DESCRIPTION:La part de Dieu dans l’oraison et l’acte de foi
URL:https://spsp-courbevoie.fr/event/entretien-sur-la-priere-4/
LOCATION:Eglise Saint Pierre Saint Paul\, rue des Boudoux\, COURBEVOIE\, 92400\, France
END:VEVENT
BEGIN:VEVENT
DTSTART;TZID=UTC:20210318T203000
DTEND;TZID=UTC:20210318T220000
DTSTAMP:20260426T000431
CREATED:20210310T203434Z
LAST-MODIFIED:20210310T213658Z
UID:5075-1616099400-1616104800@spsp-courbevoie.fr
SUMMARY:Conférence CCFD Terre Solidaire - Haïti
DESCRIPTION:Le Carême … temps de prière\, de pénitence\, de partage.\nTemps de solidarité\, avec ceux qui ont faim\, ici et là-bas.  \nFaim de nourriture\, de reconnaissance\, de santé\, de liberté\, de bonheur. \nTemps de solidarité pour ceux qui n’en peuvent plus d’être méprisés et ignorés. \nLe CCFD-Terre Solidaire\, missionné par notre Eglise\, nous y invite en ce temps de Carême. \nL’équipe CCFD d’Asnières et de Courbevoie vous propose une soirée pour découvrir les actions de ses partenaires\, avec comme focus Haïti : la situation\, les difficultés\, les espoirs. \nUne soirée pour entendre\, comprendre\, se mobiliser : jeudi 18 mars de 20h30 à 22h \nAvec la participation de : \n• Gérard Clément\, membre de la direction du partenariat international du CCFD Terre Solidaire\n• Josette Bruffaerts-Thomas et Bernard Philizot\, responsables de l’association Haïti Futur (qui soutient des projets éducatifs à Haïti).\nVu les circonstances sanitaires\, cette rencontre aura lieu en mode distanciel  à  se connecter avec le lien zoom  \nhttps://us02web.zoom.us/j/84712219264?pwd=VGVMNk9yWFJRbE9hWnRlM2xlRUtOUT09 \nNous vous attendons nombreux ! En toute amitié \nL’équipe CCFD d’Asnières et de Courbevoie \n(contact : ccfd.asnieres.courbevoie@gmail.com )
URL:https://spsp-courbevoie.fr/event/conference-ccfd-terre-solidaire-haiti/
ATTACH;FMTTYPE=image/jpeg:https://spsp-courbevoie.fr/wp-content/uploads/2021/03/DAC6AD89-1497-4839-9D2C-7807F0171BE5.jpeg
END:VEVENT
BEGIN:VEVENT
DTSTART;TZID=UTC:20210320T160000
DTEND;TZID=UTC:20210320T160000
DTSTAMP:20260426T000431
CREATED:20210312T215809Z
LAST-MODIFIED:20210312T222501Z
UID:5101-1616256000-1616256000@spsp-courbevoie.fr
SUMMARY:Solennité de saint Joseph
DESCRIPTION:Notre paroisse Saint-Pierre-Saint-Paul de Courbevoie sera consacrée à saint Joseph le samedi 20 mars à 16h dans la chapelle qui lui est dédiée :\nchants\, méditation\, prière de consécration; messe et bénédiction solennelle à 16h30 dans l’église. N’oubliez-pas de prier la neuvaine\, à votre disposition au fond de l’église
URL:https://spsp-courbevoie.fr/event/solennite-de-saint-joseph/
ATTACH;FMTTYPE=image/jpeg:https://spsp-courbevoie.fr/wp-content/uploads/2021/03/6CEEBD6A-6335-41F5-A822-2FC1D5915B6C.jpeg
END:VEVENT
BEGIN:VEVENT
DTSTART;TZID=UTC:20210321T101500
DTEND;TZID=UTC:20210321T104500
DTSTAMP:20260426T000431
CREATED:20210117T184245Z
LAST-MODIFIED:20210117T184245Z
UID:4932-1616321700-1616323500@spsp-courbevoie.fr
SUMMARY:Entretien sur la prière
DESCRIPTION:L’adoration du Saint-Sacrement
URL:https://spsp-courbevoie.fr/event/entretien-sur-la-priere-5/
LOCATION:Eglise Saint Pierre Saint Paul\, rue des Boudoux\, COURBEVOIE\, 92400\, France
END:VEVENT
BEGIN:VEVENT
DTSTART;TZID=UTC:20210321T110000
DTEND;TZID=UTC:20210321T110000
DTSTAMP:20260426T000431
CREATED:20200910T212823Z
LAST-MODIFIED:20200910T212835Z
UID:3963-1616324400-1616324400@spsp-courbevoie.fr
SUMMARY:Eveil à la foi
DESCRIPTION:Les rameaux et la semaine Sainte
URL:https://spsp-courbevoie.fr/event/eveil-a-la-foi-38/
CATEGORIES:éveil à la foi
END:VEVENT
END:VCALENDAR