BEGIN:VCALENDAR
VERSION:2.0
PRODID:-//Paroisse Saint-Pierre-Saint-Paul de Courbevoie - ECPv6.15.20//NONSGML v1.0//EN
CALSCALE:GREGORIAN
METHOD:PUBLISH
X-ORIGINAL-URL:https://spsp-courbevoie.fr
X-WR-CALDESC:Évènements pour Paroisse Saint-Pierre-Saint-Paul de Courbevoie
REFRESH-INTERVAL;VALUE=DURATION:PT1H
X-Robots-Tag:noindex
X-PUBLISHED-TTL:PT1H
BEGIN:VTIMEZONE
TZID:UTC
BEGIN:STANDARD
TZOFFSETFROM:+0000
TZOFFSETTO:+0000
TZNAME:UTC
DTSTART:20230101T000000
END:STANDARD
END:VTIMEZONE
BEGIN:VEVENT
DTSTART;TZID=UTC:20240303T160000
DTEND;TZID=UTC:20240303T160000
DTSTAMP:20260421T100002
CREATED:20240301T211641Z
LAST-MODIFIED:20240301T212823Z
UID:7335-1709481600-1709481600@spsp-courbevoie.fr
SUMMARY:Concert Soprano\, cordes et orgue
DESCRIPTION:
URL:https://spsp-courbevoie.fr/event/concert-3/
LOCATION:Eglise Saint Pierre Saint Paul\, rue des Boudoux\, COURBEVOIE\, 92400\, France
CATEGORIES:Spectacle
ATTACH;FMTTYPE=image/jpeg:https://spsp-courbevoie.fr/wp-content/uploads/2024/03/IMG_0822-1.jpeg
END:VEVENT
END:VCALENDAR