BEGIN:VCALENDAR
VERSION:2.0
PRODID:-//Paroisse Saint-Pierre-Saint-Paul de Courbevoie - ECPv6.15.20//NONSGML v1.0//EN
CALSCALE:GREGORIAN
METHOD:PUBLISH
X-ORIGINAL-URL:https://spsp-courbevoie.fr
X-WR-CALDESC:Évènements pour Paroisse Saint-Pierre-Saint-Paul de Courbevoie
REFRESH-INTERVAL;VALUE=DURATION:PT1H
X-Robots-Tag:noindex
X-PUBLISHED-TTL:PT1H
BEGIN:VTIMEZONE
TZID:UTC
BEGIN:STANDARD
TZOFFSETFROM:+0000
TZOFFSETTO:+0000
TZNAME:UTC
DTSTART:20220101T000000
END:STANDARD
END:VTIMEZONE
BEGIN:VEVENT
DTSTART;TZID=UTC:20230212T160000
DTEND;TZID=UTC:20230212T160000
DTSTAMP:20260422T023732
CREATED:20230212T220332Z
LAST-MODIFIED:20230212T223645Z
UID:6666-1676217600-1676217600@spsp-courbevoie.fr
SUMMARY:Concert harpe et violoncelle
DESCRIPTION:
URL:https://spsp-courbevoie.fr/event/concert-2/
CATEGORIES:Spectacle
END:VEVENT
BEGIN:VEVENT
DTSTART;TZID=UTC:20230216T203000
DTEND;TZID=UTC:20230216T203000
DTSTAMP:20260422T023732
CREATED:20230212T221153Z
LAST-MODIFIED:20230212T223504Z
UID:6670-1676579400-1676579400@spsp-courbevoie.fr
SUMMARY:Concert Franco americain
DESCRIPTION:
URL:https://spsp-courbevoie.fr/event/concert-franco-americain/
LOCATION:Eglise Saint Pierre Saint Paul\, rue des Boudoux\, COURBEVOIE\, 92400\, France
CATEGORIES:Spectacle
ATTACH;FMTTYPE=image/png:https://spsp-courbevoie.fr/wp-content/uploads/2023/02/affiche.png
END:VEVENT
END:VCALENDAR