BEGIN:VCALENDAR
VERSION:2.0
PRODID:-//Paroisse Saint-Pierre-Saint-Paul de Courbevoie - ECPv6.15.20//NONSGML v1.0//EN
CALSCALE:GREGORIAN
METHOD:PUBLISH
X-WR-CALNAME:Paroisse Saint-Pierre-Saint-Paul de Courbevoie
X-ORIGINAL-URL:https://spsp-courbevoie.fr
X-WR-CALDESC:Évènements pour Paroisse Saint-Pierre-Saint-Paul de Courbevoie
REFRESH-INTERVAL;VALUE=DURATION:PT1H
X-Robots-Tag:noindex
X-PUBLISHED-TTL:PT1H
BEGIN:VTIMEZONE
TZID:UTC
BEGIN:STANDARD
TZOFFSETFROM:+0000
TZOFFSETTO:+0000
TZNAME:UTC
DTSTART:20180101T000000
END:STANDARD
END:VTIMEZONE
BEGIN:VEVENT
DTSTART;TZID=UTC:20191117T160000
DTEND;TZID=UTC:20191117T160000
DTSTAMP:20260424T091016
CREATED:20191024T141156Z
LAST-MODIFIED:20191118T222727Z
UID:2659-1574006400-1574006400@spsp-courbevoie.fr
SUMMARY:Concert de chants liturgiques et de musiques populaires russes.
DESCRIPTION:dimanche 17 novembre à 16h
URL:https://spsp-courbevoie.fr/event/concert-de-chants-liturgiques-et-de-musiques-populaires-russes/
CATEGORIES:Spectacle
ATTACH;FMTTYPE=application/pdf:https://spsp-courbevoie.fr/wp-content/uploads/2019/10/Concert-du-17-11-19-à-Courbevoie.pdf
END:VEVENT
END:VCALENDAR