BEGIN:VCALENDAR
VERSION:2.0
PRODID:-//Paroisse Saint-Pierre-Saint-Paul de Courbevoie - ECPv6.15.20//NONSGML v1.0//EN
CALSCALE:GREGORIAN
METHOD:PUBLISH
X-ORIGINAL-URL:https://spsp-courbevoie.fr
X-WR-CALDESC:Évènements pour Paroisse Saint-Pierre-Saint-Paul de Courbevoie
REFRESH-INTERVAL;VALUE=DURATION:PT1H
X-Robots-Tag:noindex
X-PUBLISHED-TTL:PT1H
BEGIN:VTIMEZONE
TZID:UTC
BEGIN:STANDARD
TZOFFSETFROM:+0000
TZOFFSETTO:+0000
TZNAME:UTC
DTSTART:20190101T000000
END:STANDARD
END:VTIMEZONE
BEGIN:VEVENT
DTSTART;TZID=UTC:20200520T210000
DTEND;TZID=UTC:20200520T210000
DTSTAMP:20260425T172814
CREATED:20200513T230046Z
LAST-MODIFIED:20200527T094900Z
UID:3500-1590008400-1590008400@spsp-courbevoie.fr
SUMMARY:Visio prière des mères de famille
DESCRIPTION:le mercredi 20 mai de 21h à 21h45\, un temps pour nous retrouver et pour prier ensemble \nSur zoom\, indications à suivre… \nInscription (pour recevoir les détails de la soirée)\n\n\n  \n\n\n\n Votre nom (obligatoire)\n \n \n Votre prénom (obligatoire)\n \n \n Votre adresse de messagerie (obligatoire)\n \n \n Votre téléphone (obligatoire)\n \n \nJe peux venir avec ma voiture\n \n Capacité voiture\n \n \nJe peux apporter une tente\n \n Capacité tente\n \n \n Je peux rendre un service à l'équipe d'organisation pour les activités suivantes\ncuisine et intendance\nmatériel (tente\, ustensiles cuisine)\nlogistique et itinéraire\nanimation/prière/chants\n \n Je règlerais ma participation de 45 € \npar chèque (à l’ordre de Paroisse St Pierre St Paul– pelemf)\nen espèces\n \nJ'accepte que mes coordonnées soient utilisées à l'usage exclusif de l'organisation de l’événement\n \nJe reconnais avoir été informée que le Pèlerinage des Mères de famille de Vézelay est un groupe informel de pèlerins et accueille des personnes réunies sous leur seule et entière responsabilité personnelle.\nJe déclare être couvert pour tous dommages subis ou causés pendant la durée du pèlerinage et je renonce expressément à tout recours de quelle nature que ce soit et sur quelque fondement que ce soit à l’encontre de l’équipe organisatrice.\nLa présente décharge a été remplie et signée avant le départ pour le pèlerinage et sera opposable à mes ayant-droits.
URL:https://spsp-courbevoie.fr/event/visio-priere-des-meres-de-famille/
LOCATION:zoom
CATEGORIES:Prière
END:VEVENT
END:VCALENDAR