BEGIN:VCALENDAR
VERSION:2.0
PRODID:-//Paroisse Saint-Pierre-Saint-Paul de Courbevoie - ECPv6.15.20//NONSGML v1.0//EN
CALSCALE:GREGORIAN
METHOD:PUBLISH
X-ORIGINAL-URL:https://spsp-courbevoie.fr
X-WR-CALDESC:Évènements pour Paroisse Saint-Pierre-Saint-Paul de Courbevoie
REFRESH-INTERVAL;VALUE=DURATION:PT1H
X-Robots-Tag:noindex
X-PUBLISHED-TTL:PT1H
BEGIN:VTIMEZONE
TZID:UTC
BEGIN:STANDARD
TZOFFSETFROM:+0000
TZOFFSETTO:+0000
TZNAME:UTC
DTSTART:20210101T000000
END:STANDARD
END:VTIMEZONE
BEGIN:VEVENT
DTSTART;TZID=UTC:20220419T203000
DTEND;TZID=UTC:20220419T220000
DTSTAMP:20260423T221127
CREATED:20220409T125507Z
LAST-MODIFIED:20220409T163556Z
UID:6135-1650400200-1650405600@spsp-courbevoie.fr
SUMMARY:Réunion d'information pour le pèlerinage des mères de familles à Vézelay
DESCRIPTION:Bienvenue à toutes les mamans de notre paroisse pour marcher à Vézelay! \nNos motivations pour venir sont variées\, questionnement\, intentions à porter\, envie de partage ou tout simplement de nature et de marche… \nNos situations personnelles sont toutes aussi diversifiées\, mariées\, divorcées\, veuves\, célibataires ou en couple\, mais toutes femmes\, chacune à sa manière. \nEn pour nous toutes en commun un relation à initier\, explorer avec Dieu. \nRéunion d’information le mardi 19 mars à 20:30 à la maison paroissiale. \nRenseignement: Alexandra Vercken\, 06 76 05 30 98 \ninformations et inscription : \nRetour sur le Pèlerinage des mères de famille à Vézelay 10-12 juin 2022
URL:https://spsp-courbevoie.fr/event/pelerinage-des-meres-de-familles-a-vezelay/
LOCATION:Maison paroissiale 4 rue Saint Thomas en Argonne\, 4 rue saint Thomas en Argonne\, COURBEVOIE\, 92400\, France
CATEGORIES:convivialité,paroisse
END:VEVENT
END:VCALENDAR