BEGIN:VCALENDAR
VERSION:2.0
PRODID:-//Paroisse Saint-Pierre-Saint-Paul de Courbevoie - ECPv6.15.20//NONSGML v1.0//EN
CALSCALE:GREGORIAN
METHOD:PUBLISH
X-WR-CALNAME:Paroisse Saint-Pierre-Saint-Paul de Courbevoie
X-ORIGINAL-URL:https://spsp-courbevoie.fr
X-WR-CALDESC:Évènements pour Paroisse Saint-Pierre-Saint-Paul de Courbevoie
REFRESH-INTERVAL;VALUE=DURATION:PT1H
X-Robots-Tag:noindex
X-PUBLISHED-TTL:PT1H
BEGIN:VTIMEZONE
TZID:UTC
BEGIN:STANDARD
TZOFFSETFROM:+0000
TZOFFSETTO:+0000
TZNAME:UTC
DTSTART:20210101T000000
END:STANDARD
END:VTIMEZONE
BEGIN:VEVENT
DTSTART;TZID=UTC:20220415T083000
DTEND;TZID=UTC:20220415T220000
DTSTAMP:20260423T221030
CREATED:20220409T130950Z
LAST-MODIFIED:20220409T130950Z
UID:6143-1650011400-1650060000@spsp-courbevoie.fr
SUMMARY:Vendredi Saint
DESCRIPTION:8:30 – office des ténèbres \n15:00 – Chemin de croix \n16:00 – Confession \n20:30 – Célébration de la passion
URL:https://spsp-courbevoie.fr/event/vendredi-saint-2/
CATEGORIES:animation liturgie,Événements,paroisse
ATTACH;FMTTYPE=image/jpeg:https://spsp-courbevoie.fr/wp-content/uploads/2022/04/VendrediSaint.jpg
END:VEVENT
END:VCALENDAR