BEGIN:VCALENDAR
VERSION:2.0
PRODID:-//Paroisse Saint-Pierre-Saint-Paul de Courbevoie - ECPv6.15.20//NONSGML v1.0//EN
CALSCALE:GREGORIAN
METHOD:PUBLISH
X-WR-CALNAME:Paroisse Saint-Pierre-Saint-Paul de Courbevoie
X-ORIGINAL-URL:https://spsp-courbevoie.fr
X-WR-CALDESC:Évènements pour Paroisse Saint-Pierre-Saint-Paul de Courbevoie
REFRESH-INTERVAL;VALUE=DURATION:PT1H
X-Robots-Tag:noindex
X-PUBLISHED-TTL:PT1H
BEGIN:VTIMEZONE
TZID:UTC
BEGIN:STANDARD
TZOFFSETFROM:+0000
TZOFFSETTO:+0000
TZNAME:UTC
DTSTART:20210101T000000
END:STANDARD
END:VTIMEZONE
BEGIN:VEVENT
DTSTART;TZID=UTC:20220127T080000
DTEND;TZID=UTC:20220127T170000
DTSTAMP:20260424T023920
CREATED:20220122T133410Z
LAST-MODIFIED:20220122T133410Z
UID:5903-1643270400-1643302800@spsp-courbevoie.fr
SUMMARY:Recherche bénévoles pour aumonerie
DESCRIPTION:La nouvelle responsable de l’aumônerie de l’hôpital de Courbevoie (rue Kilford)\, recherche des bénévoles pour visiter les malades dans les différents services. Si vous avez un peu de temps libre à consacrer à cette belle mission (2 à 3 heures une après-midi par semaine)\, n’hésitez pas à rejoindre l’équipe! Une formation et un accompagnement sont prévus.\nContact: Carole Girault au 06 20 31 33 55
URL:https://spsp-courbevoie.fr/event/recherche-benevoles-pour-aumonerie/
LOCATION:Eglise Saint Pierre Saint Paul\, rue des Boudoux\, COURBEVOIE\, 92400\, France
CATEGORIES:paroisse
END:VEVENT
BEGIN:VEVENT
DTSTART;TZID=UTC:20220127T201500
DTEND;TZID=UTC:20220127T221500
DTSTAMP:20260424T023920
CREATED:20220122T134146Z
LAST-MODIFIED:20220122T134146Z
UID:5909-1643314500-1643321700@spsp-courbevoie.fr
SUMMARY:Préparation au baptême
DESCRIPTION:Préparation au baptême à la Maison paroissiale
URL:https://spsp-courbevoie.fr/event/preparation-au-bapteme-3/
LOCATION:Maison paroissiale\, rue st Thomas en Argonne\, COURBEVOIE\, 92400\, France
CATEGORIES:enseignement
END:VEVENT
END:VCALENDAR