BEGIN:VCALENDAR
VERSION:2.0
PRODID:-//Paroisse Saint-Pierre-Saint-Paul de Courbevoie - ECPv6.15.20//NONSGML v1.0//EN
CALSCALE:GREGORIAN
METHOD:PUBLISH
X-ORIGINAL-URL:https://spsp-courbevoie.fr
X-WR-CALDESC:Évènements pour Paroisse Saint-Pierre-Saint-Paul de Courbevoie
REFRESH-INTERVAL;VALUE=DURATION:PT1H
X-Robots-Tag:noindex
X-PUBLISHED-TTL:PT1H
BEGIN:VTIMEZONE
TZID:UTC
BEGIN:STANDARD
TZOFFSETFROM:+0000
TZOFFSETTO:+0000
TZNAME:UTC
DTSTART:20200101T000000
END:STANDARD
END:VTIMEZONE
BEGIN:VEVENT
DTSTART;TZID=UTC:20211211T203000
DTEND;TZID=UTC:20211211T203000
DTSTAMP:20260424T041318
CREATED:20211209T204415Z
LAST-MODIFIED:20211209T204540Z
UID:5768-1639254600-1639254600@spsp-courbevoie.fr
SUMMARY:Concert de Noël
DESCRIPTION:Quatre Saisons (Vivaldi) :\nPar les Solistes Français \nChants de Noël\nPar Manna ITO\, Tatiana Martynova\,\nJoachim Da Cunha et Carlo Andrea Masciadri \nOrgue\nPar Joanna Kaja
URL:https://spsp-courbevoie.fr/event/concert-de-noel-2/
LOCATION:Eglise Saint Pierre Saint Paul\, rue des Boudoux\, COURBEVOIE\, 92400\, France
CATEGORIES:convivialité,paroisse
ATTACH;FMTTYPE=image/jpeg:https://spsp-courbevoie.fr/wp-content/uploads/2021/12/C2BAF22F-EF02-447D-B18B-31467721E66B.jpeg
END:VEVENT
END:VCALENDAR