BEGIN:VCALENDAR
VERSION:2.0
PRODID:-//Paroisse Saint-Pierre-Saint-Paul de Courbevoie - ECPv6.15.20//NONSGML v1.0//EN
CALSCALE:GREGORIAN
METHOD:PUBLISH
X-WR-CALNAME:Paroisse Saint-Pierre-Saint-Paul de Courbevoie
X-ORIGINAL-URL:https://spsp-courbevoie.fr
X-WR-CALDESC:Évènements pour Paroisse Saint-Pierre-Saint-Paul de Courbevoie
REFRESH-INTERVAL;VALUE=DURATION:PT1H
X-Robots-Tag:noindex
X-PUBLISHED-TTL:PT1H
BEGIN:VTIMEZONE
TZID:UTC
BEGIN:STANDARD
TZOFFSETFROM:+0000
TZOFFSETTO:+0000
TZNAME:UTC
DTSTART:20240101T000000
END:STANDARD
END:VTIMEZONE
BEGIN:VEVENT
DTSTART;TZID=UTC:20250311T203000
DTEND;TZID=UTC:20250311T220000
DTSTAMP:20260421T203606
CREATED:20250216T223659Z
LAST-MODIFIED:20250305T214311Z
UID:8014-1741725000-1741730400@spsp-courbevoie.fr
SUMMARY:Parcours Paroissial: Jésus Christ\, vrai Dieu et vrai homme
DESCRIPTION:6 rencontres\, le mardi de 20:30 à 22:00 \nFORMAT D’UNE RENCONTRE\n· Louange\n· Témoignage\n· Enseignement\n· Partage en équipe\n· Prière\n· Défi pour la semaine \nDATES ET THÈMES DES SÉANCES\n1. Mardi 11 mars : Jésus\, Fils de Dieu\, vient habiter au milieu de nous.\n2. Mardi 18 mars : Jésus\, Christ et Sauveur\, nous guérit et nous libère.\n3. Mardi 25 mars : Jésus\, Maître de sagesse\, guide ses disciples.\n4. Mardi 1er avril : Jésus\, Serviteur\, donne sa vie pour nous.\n5. Mardi 8 avril : Jésus\, le Ressuscité\, nous donne la vie éternelle.\n6. Mardi 29 avril : Jésus\, Lumière des nations\, nous envoie en mission \n  \nSecrétariat paroissial :\nsecretariat@spsp-courbevoie.fr – 01.47.88.43.03\nMaison paroissiale Pierre Hébert : 4 rue Saint-Thomas en Argonne \n2025 flyer parcours Jésus-Christ
URL:https://spsp-courbevoie.fr/event/parcours-paroissial-jesus-christ-vrai-dieu-et-vrai-homme/
LOCATION:Maison paroissiale 4 rue Saint Thomas en Argonne\, 4 rue saint Thomas en Argonne\, COURBEVOIE\, 92400\, France
CATEGORIES:enseignement,paroisse
ATTACH;FMTTYPE=image/png:https://spsp-courbevoie.fr/wp-content/uploads/2025/02/JC-vrai-Dieu.png
END:VEVENT
BEGIN:VEVENT
DTSTART;TZID=UTC:20250322T080000
DTEND;TZID=UTC:20250322T200000
DTSTAMP:20260421T203606
CREATED:20250302T223957Z
LAST-MODIFIED:20250302T223958Z
UID:8028-1742630400-1742673600@spsp-courbevoie.fr
SUMMARY:Marche Saint-Joseph
DESCRIPTION:Marche Saint Joseph le 22 mars 2025\, à 8H\, sur le parvis Notre-Dame \nAteliers dans différents lieux de Paris \nMesse à 20H \n2025 Marche St Joseph flyer
URL:https://spsp-courbevoie.fr/event/marche-saint-joseph/
CATEGORIES:Événements,Prière
END:VEVENT
BEGIN:VEVENT
DTSTART;TZID=UTC:20250330T150000
DTEND;TZID=UTC:20250330T173000
DTSTAMP:20260421T203606
CREATED:20250105T102102Z
LAST-MODIFIED:20250105T102136Z
UID:7947-1743346800-1743355800@spsp-courbevoie.fr
SUMMARY:Atelier “Déco de Pâques”
DESCRIPTION:Venez réaliser des cartes pour la fête de Pâques\, des décorations pour la table et la maison… autant de créations simples colorées\, printanières et de qualité! Chaque enfant apporte sa trousse d’écolier. Cet atelier\, suivi d’un goûter\, est ouvert à tous à partir de 6 ans.\nLibre participation.\nLes enfants restent sous la surveillance constante de leurs parents.
URL:https://spsp-courbevoie.fr/event/atelier-deco-de-paques-2/
LOCATION:Maison paroissiale Pierre Hebert\, 4 rue Saint Thomas en Argonne\, COURBEVOIE\, 92400\, France
CATEGORIES:convivialité
END:VEVENT
END:VCALENDAR