BEGIN:VCALENDAR
VERSION:2.0
PRODID:-//Paroisse Saint-Pierre-Saint-Paul de Courbevoie - ECPv6.15.20//NONSGML v1.0//EN
CALSCALE:GREGORIAN
METHOD:PUBLISH
X-ORIGINAL-URL:https://spsp-courbevoie.fr
X-WR-CALDESC:Évènements pour Paroisse Saint-Pierre-Saint-Paul de Courbevoie
REFRESH-INTERVAL;VALUE=DURATION:PT1H
X-Robots-Tag:noindex
X-PUBLISHED-TTL:PT1H
BEGIN:VTIMEZONE
TZID:UTC
BEGIN:STANDARD
TZOFFSETFROM:+0000
TZOFFSETTO:+0000
TZNAME:UTC
DTSTART:20190101T000000
END:STANDARD
END:VTIMEZONE
BEGIN:VEVENT
DTSTART;TZID=UTC:20200422T204500
DTEND;TZID=UTC:20200422T204500
DTSTAMP:20260425T102011
CREATED:20200420T194222Z
LAST-MODIFIED:20200429T203525Z
UID:3433-1587588300-1587588300@spsp-courbevoie.fr
SUMMARY:Soirée couples confinés
DESCRIPTION:sur la chaine youtube du diocèse de Nanterre : https://www.youtube.com/user/diocesedenanterre
URL:https://spsp-courbevoie.fr/event/soiree-couples-confines/
LOCATION:Chaîne Youtube du diocèse de Nanterre
CATEGORIES:Événements
ATTACH;FMTTYPE=image/png:https://spsp-courbevoie.fr/wp-content/uploads/2020/04/soireeCouples.png
END:VEVENT
END:VCALENDAR