BEGIN:VCALENDAR
VERSION:2.0
PRODID:-//Paroisse Saint-Pierre-Saint-Paul de Courbevoie - ECPv6.15.20//NONSGML v1.0//EN
CALSCALE:GREGORIAN
METHOD:PUBLISH
X-ORIGINAL-URL:https://spsp-courbevoie.fr
X-WR-CALDESC:Évènements pour Paroisse Saint-Pierre-Saint-Paul de Courbevoie
REFRESH-INTERVAL;VALUE=DURATION:PT1H
X-Robots-Tag:noindex
X-PUBLISHED-TTL:PT1H
BEGIN:VTIMEZONE
TZID:UTC
BEGIN:STANDARD
TZOFFSETFROM:+0000
TZOFFSETTO:+0000
TZNAME:UTC
DTSTART:20190101T000000
END:STANDARD
END:VTIMEZONE
BEGIN:VEVENT
DTSTART;TZID=UTC:20200304T200000
DTEND;TZID=UTC:20200304T200000
DTSTAMP:20260425T113333
CREATED:20200128T224818Z
LAST-MODIFIED:20200215T100506Z
UID:2945-1583352000-1583352000@spsp-courbevoie.fr
SUMMARY:Nouveau MOOC : "De l'Ancien au Nouveau Testament"
DESCRIPTION:Le bilan du groupe paroissial autour du MOOC (Cours en ligne) des Bernardins au premier semestre étant enthousiaste\, nous renouvelons l’expérience au second semestre\, avec un nouveau MOOC « de l’Ancien au Nouveau Testament ». \nCe MOOC permet de comprendre comment le nouveau testament s’appuie sur l’ancien\, autrement dit comment le christianisme s’enracine dans le judaïsme. \nVoici quelques témoignages de paroissiens ayant suivi le MOOC du premier semestre en participant au groupe paroissial:\n« j’ai été conquis : de la théologie « à ma portée »\, sans considérations trop difficiles ou subtiles … mais surtout avec le but (atteint) […] de faire entrer [les étudiants] dans une connaissance de Dieu et de la vie divine qui les conduit à la prière et à la louange. » \n« Aujourd’hui je sais où je prends racine\, dans ce que je suis appelée à croire.» \n« …votre accompagnement qui a rendu la pratique de ce MOOC  « faisable » pour moi grâce à la stimulation du rendez-vous du mardi et par vos réponses qui m’ont éclairés sur bien des points obscurs. » \nEn pratique\, pour participer\, il faut suivre 30’ de vidéo de cours chaque semaine. Nousnous retrouvons tous les deux cours pour faire le point un mercredi soir à 20h à la maison paroissiale (4-6 rue st Thomas en Argonne). Site du MOOC : www.sinod.fr  \nInformations\, aide informatique auprès de Thibaud : tguespereau@gmail.com\nDates : il faut commencer les vidéos vers le 19 février. \nRencontres paroissiales : 4 mars\, 18 mars\, 1er avril\, 22 avril\, 6 mai\, 27 mai.\nIl n’est pas indispensable d’être là dès la première rencontre ni à toutes les rencontres.
URL:https://spsp-courbevoie.fr/event/nouveau-mooc-de-lancien-au-nouveau-testament/
CATEGORIES:Événements
ATTACH;FMTTYPE=image/jpeg:https://spsp-courbevoie.fr/wp-content/uploads/2020/01/ancienTest.jpg
END:VEVENT
END:VCALENDAR