BEGIN:VCALENDAR
VERSION:2.0
PRODID:-//Paroisse Saint-Pierre-Saint-Paul de Courbevoie - ECPv6.15.20//NONSGML v1.0//EN
CALSCALE:GREGORIAN
METHOD:PUBLISH
X-WR-CALNAME:Paroisse Saint-Pierre-Saint-Paul de Courbevoie
X-ORIGINAL-URL:https://spsp-courbevoie.fr
X-WR-CALDESC:Évènements pour Paroisse Saint-Pierre-Saint-Paul de Courbevoie
REFRESH-INTERVAL;VALUE=DURATION:PT1H
X-Robots-Tag:noindex
X-PUBLISHED-TTL:PT1H
BEGIN:VTIMEZONE
TZID:UTC
BEGIN:STANDARD
TZOFFSETFROM:+0000
TZOFFSETTO:+0000
TZNAME:UTC
DTSTART:20210101T000000
END:STANDARD
END:VTIMEZONE
BEGIN:VEVENT
DTSTART;TZID=UTC:20220204T180000
DTEND;TZID=UTC:20220212T180000
DTSTAMP:20260423T231835
CREATED:20220117T205500Z
LAST-MODIFIED:20220202T183052Z
UID:5871-1643997600-1644688800@spsp-courbevoie.fr
SUMMARY:Exposition « L’art\, le prêtre\, le diacre dans les Hauts de Seine »
DESCRIPTION:L’Expo « L’ART\, le PRÊTRE\, le DIACRE dans les Hauts de Seine » sera inaugurée vendredi 4 février\, de 18h à 21 h\, au 7 bld st Denis. C’est une « première » dans notre diocèse. Notre Evêque nous fera l’honneur de sa présence. Vous serez donc tous les bienvenus. Et n’hésitez pas à inviter vous-mêmes des membres de vos familles\, des voisins\, des amis. \n\nDes sculpteurs\, des peintres\, des photographes\, des poètes\, des compositeurs\, des  musiciens … mais aussi des prêtres et des diacres dont l’amour pour Jésus  s’exprime à travers leurs créations.  \nVenez les découvrir autrement que d’habitude grâce à l’Exposition qui leur est  consacrée :  \nChapelle Ste Thérèse\, 7 boulevard St Denis\, 92400 COURBEVOIE samedi 5 et dimanche 6 février de 10h à 18h  \nvendredi 11 février de 18h à 21h  \nsamedi 12 et dimanche 13 février de 10h à 18h.  \nEntrée libre. Précautions sanitaires habituelles. \nhttps://www.facebook.com/pretresdiacresartistes
URL:https://spsp-courbevoie.fr/event/lart-le-pretre-le-diacre-dans-les-hauts-de-seine/
LOCATION:Chapelle Sainte Therese\, 7 boulevard Saint Denis\, COURBEVOIE\, 92400\, France
CATEGORIES:Événements
ATTACH;FMTTYPE=image/jpeg:https://spsp-courbevoie.fr/wp-content/uploads/2022/01/D8957FB9-5DEA-48F9-9C80-46EECDC1B42A.jpeg
END:VEVENT
BEGIN:VEVENT
DTSTART;TZID=UTC:20220206T143000
DTEND;TZID=UTC:20220206T173000
DTSTAMP:20260423T231835
CREATED:20220122T134439Z
LAST-MODIFIED:20220122T134439Z
UID:5911-1644157800-1644168600@spsp-courbevoie.fr
SUMMARY:Eglise Verte: « Fresque du climat »
DESCRIPTION:Dans le cadre des propositions «Eglise Verte\, la paroisse organise un atelier\n« Fresque du climat » le dimanche 6 février (et non le 13 février)\, de 14h30 à 17h30 dans la maison paroissiale. Il s’agit d’un atelier ludique\, permettant d’être sensibilisés à la situation préoccupante de la planète. Des petits groupes de 5 à 6 personnes\, encadrés par un animateur de la Fresque du Climat\, sont invités\, à l’aide de cartes\, à relier les causes et les conséquences du changement climatique. Un temps de retour d’expérience est ensuite prévu. S’inscrire auprès de nous ou auprès du secrétariat paroissial. \nVéronique Lépagnol et Laurence Rosenzweig
URL:https://spsp-courbevoie.fr/event/eglise-verte-fresque-du-climat/
LOCATION:Maison paroissiale 4 rue Saint Thomas en Argonne\, 4 rue saint Thomas en Argonne\, COURBEVOIE\, 92400\, France
CATEGORIES:Événements
END:VEVENT
BEGIN:VEVENT
DTSTART;TZID=UTC:20220206T160000
DTEND;TZID=UTC:20220206T160000
DTSTAMP:20260423T231835
CREATED:20220122T121707Z
LAST-MODIFIED:20220122T121707Z
UID:5894-1644163200-1644163200@spsp-courbevoie.fr
SUMMARY:Concert d’orgue
DESCRIPTION:Concert d’orgue le dimanche 6 février à 16 h dans l’église \npar Bruno Beaufils de Guérigny \nAu programme: Jean-Baptiste Lully\, Jean-Sébastien Bach\, Gustave Cuypers\, …
URL:https://spsp-courbevoie.fr/event/concert-dorgue/
LOCATION:Eglise Saint Pierre Saint Paul\, rue des Boudoux\, COURBEVOIE\, 92400\, France
CATEGORIES:Événements
END:VEVENT
END:VCALENDAR