BEGIN:VCALENDAR
VERSION:2.0
PRODID:-//Paroisse Saint-Pierre-Saint-Paul de Courbevoie - ECPv6.15.20//NONSGML v1.0//EN
CALSCALE:GREGORIAN
METHOD:PUBLISH
X-ORIGINAL-URL:https://spsp-courbevoie.fr
X-WR-CALDESC:Évènements pour Paroisse Saint-Pierre-Saint-Paul de Courbevoie
REFRESH-INTERVAL;VALUE=DURATION:PT1H
X-Robots-Tag:noindex
X-PUBLISHED-TTL:PT1H
BEGIN:VTIMEZONE
TZID:UTC
BEGIN:STANDARD
TZOFFSETFROM:+0000
TZOFFSETTO:+0000
TZNAME:UTC
DTSTART:20200101T000000
END:STANDARD
END:VTIMEZONE
BEGIN:VEVENT
DTSTART;TZID=UTC:20211122T140000
DTEND;TZID=UTC:20211122T170000
DTSTAMP:20260424T034408
CREATED:20211119T215336Z
LAST-MODIFIED:20211119T215337Z
UID:5663-1637589600-1637600400@spsp-courbevoie.fr
SUMMARY:Atelier Pierre et Paul
DESCRIPTION:
URL:https://spsp-courbevoie.fr/event/atelier-pierre-et-paul/
LOCATION:Maison paroissiale 4 rue Saint Thomas en Argonne\, 4 rue saint Thomas en Argonne\, COURBEVOIE\, 92400\, France
CATEGORIES:Événements
ORGANIZER;CN="P%C3%A8re Yvan Mar%C3%A9chal":MAILTO:cure@spsp-courbevoie.fr
END:VEVENT
BEGIN:VEVENT
DTSTART;TZID=UTC:20211124T201500
DTEND;TZID=UTC:20211124T201500
DTSTAMP:20260424T034408
CREATED:20211119T215548Z
LAST-MODIFIED:20211119T220753Z
UID:5665-1637784900-1637784900@spsp-courbevoie.fr
SUMMARY:Préparation au baptême
DESCRIPTION:
URL:https://spsp-courbevoie.fr/event/preparation-au-bapteme/
LOCATION:Maison paroissiale 4 rue Saint Thomas en Argonne\, 4 rue saint Thomas en Argonne\, COURBEVOIE\, 92400\, France
CATEGORIES:Événements
END:VEVENT
BEGIN:VEVENT
DTSTART;TZID=UTC:20211126T170000
DTEND;TZID=UTC:20211126T190000
DTSTAMP:20260424T034408
CREATED:20211119T215748Z
LAST-MODIFIED:20211119T215757Z
UID:5667-1637946000-1637953200@spsp-courbevoie.fr
SUMMARY:Réunion du Secours Catholique
DESCRIPTION:
URL:https://spsp-courbevoie.fr/event/reunion-du-secours-catholique/
LOCATION:Maison paroissiale 4 rue Saint Thomas en Argonne\, 4 rue saint Thomas en Argonne\, COURBEVOIE\, 92400\, France
CATEGORIES:Événements
END:VEVENT
BEGIN:VEVENT
DTSTART;TZID=UTC:20211127T190000
DTEND;TZID=UTC:20211127T210000
DTSTAMP:20260424T034408
CREATED:20211119T221729Z
LAST-MODIFIED:20211119T221921Z
UID:5674-1638039600-1638046800@spsp-courbevoie.fr
SUMMARY:Soirée des jeunes mariés
DESCRIPTION:
URL:https://spsp-courbevoie.fr/event/soiree-des-jeunes-maries/
LOCATION:Maison paroissiale 4 rue Saint Thomas en Argonne\, 4 rue saint Thomas en Argonne\, COURBEVOIE\, 92400\, France
CATEGORIES:Événements
END:VEVENT
END:VCALENDAR