BEGIN:VCALENDAR
VERSION:2.0
PRODID:-//Paroisse Saint-Pierre-Saint-Paul de Courbevoie - ECPv6.15.20//NONSGML v1.0//EN
CALSCALE:GREGORIAN
METHOD:PUBLISH
X-ORIGINAL-URL:https://spsp-courbevoie.fr
X-WR-CALDESC:Évènements pour Paroisse Saint-Pierre-Saint-Paul de Courbevoie
REFRESH-INTERVAL;VALUE=DURATION:PT1H
X-Robots-Tag:noindex
X-PUBLISHED-TTL:PT1H
BEGIN:VTIMEZONE
TZID:UTC
BEGIN:STANDARD
TZOFFSETFROM:+0000
TZOFFSETTO:+0000
TZNAME:UTC
DTSTART:20190101T000000
END:STANDARD
END:VTIMEZONE
BEGIN:VEVENT
DTSTART;TZID=UTC:20201011T094500
DTEND;TZID=UTC:20201011T170000
DTSTAMP:20260424T231643
CREATED:20201004T213025Z
LAST-MODIFIED:20201004T213803Z
UID:4063-1602409500-1602435600@spsp-courbevoie.fr
SUMMARY:Rentrée du groupe des Jeunes Adultes (18-30 ans)
DESCRIPTION:dimanche 11 octobre\, rendez vous devant l’église à 9h45. Journée à Montmartre : messe\, pic nique (à prévoir)\, topo par une sœur\, parcours du jubilé… retour vers 18h.
URL:https://spsp-courbevoie.fr/event/rentree-du-groupe-des-jeunes-adultes-18-30-ans/
CATEGORIES:Événements
ATTACH;FMTTYPE=image/png:https://spsp-courbevoie.fr/wp-content/uploads/2020/10/gpJeunesAdultes.png
END:VEVENT
BEGIN:VEVENT
DTSTART;TZID=UTC:20201014T200000
DTEND;TZID=UTC:20201014T200000
DTSTAMP:20260424T231643
CREATED:20200926T171205Z
LAST-MODIFIED:20200926T171427Z
UID:4042-1602705600-1602705600@spsp-courbevoie.fr
SUMMARY:MOOC sur l’Esprit Saint
DESCRIPTION:Du 5 octobre au 13 décembre\, le collège des Bernardins proposera un\nMOOC sur l’Esprit Saint. Nous vous proposons de nous retrouver ensemble pour échanger\, se soutenir et poser des questions\, ce que nous avions déjà fait avec succès l’an dernier pour d’autres MOOC.\nGroupe animé par Thibaud Guespereau\, séminariste. Dates de rencontres :\nle mercredi 14 octobre à 20h puis les 4-11 18-11 2-12 et 16-12\, à la maison\nparoissiale 4-6 rue st Thomas en Argonne. De préférence s’inscrire auprès de Thibaud : tguespereau@gmail.com Pour le MOOC lui même\, s’inscrire sur www.sinod.fr Aide informatique possible auprès de Thibaud.
URL:https://spsp-courbevoie.fr/event/mooc-sur-lesprit-saint/
CATEGORIES:Événements
ATTACH;FMTTYPE=image/jpeg:https://spsp-courbevoie.fr/wp-content/uploads/2020/09/mooc-esprit-saint.jpg
END:VEVENT
END:VCALENDAR