BEGIN:VCALENDAR
VERSION:2.0
PRODID:-//Paroisse Saint-Pierre-Saint-Paul de Courbevoie - ECPv6.15.20//NONSGML v1.0//EN
CALSCALE:GREGORIAN
METHOD:PUBLISH
X-WR-CALNAME:Paroisse Saint-Pierre-Saint-Paul de Courbevoie
X-ORIGINAL-URL:https://spsp-courbevoie.fr
X-WR-CALDESC:Évènements pour Paroisse Saint-Pierre-Saint-Paul de Courbevoie
REFRESH-INTERVAL;VALUE=DURATION:PT1H
X-Robots-Tag:noindex
X-PUBLISHED-TTL:PT1H
BEGIN:VTIMEZONE
TZID:UTC
BEGIN:STANDARD
TZOFFSETFROM:+0000
TZOFFSETTO:+0000
TZNAME:UTC
DTSTART:20210101T000000
END:STANDARD
END:VTIMEZONE
BEGIN:VEVENT
DTSTART;TZID=UTC:20220401T170000
DTEND;TZID=UTC:20220401T210000
DTSTAMP:20260423T151407
CREATED:20220319T141149Z
LAST-MODIFIED:20220319T141149Z
UID:6095-1648832400-1648846800@spsp-courbevoie.fr
SUMMARY:Célébration pénitentielle avec absolution individuelle
DESCRIPTION:
URL:https://spsp-courbevoie.fr/event/celebration-penitentielle-avec-absolution-individuelle-2/
LOCATION:Eglise Saint Pierre Saint Paul\, rue des Boudoux\, COURBEVOIE\, 92400\, France
CATEGORIES:animation liturgie,Événements,paroisse
ORGANIZER;CN="P%C3%A8re Yvan Mar%C3%A9chal":MAILTO:cure@spsp-courbevoie.fr
END:VEVENT
END:VCALENDAR