BEGIN:VCALENDAR
VERSION:2.0
PRODID:-//Paroisse Saint-Pierre-Saint-Paul de Courbevoie - ECPv6.15.20//NONSGML v1.0//EN
CALSCALE:GREGORIAN
METHOD:PUBLISH
X-ORIGINAL-URL:https://spsp-courbevoie.fr
X-WR-CALDESC:Évènements pour Paroisse Saint-Pierre-Saint-Paul de Courbevoie
REFRESH-INTERVAL;VALUE=DURATION:PT1H
X-Robots-Tag:noindex
X-PUBLISHED-TTL:PT1H
BEGIN:VTIMEZONE
TZID:UTC
BEGIN:STANDARD
TZOFFSETFROM:+0000
TZOFFSETTO:+0000
TZNAME:UTC
DTSTART:20210101T000000
END:STANDARD
END:VTIMEZONE
BEGIN:VEVENT
DTSTART;TZID=UTC:20220116T110000
DTEND;TZID=UTC:20220116T143000
DTSTAMP:20260423T194642
CREATED:20211211T133608Z
LAST-MODIFIED:20211211T133608Z
UID:5790-1642330800-1642343400@spsp-courbevoie.fr
SUMMARY:Messe des peuples
DESCRIPTION:Messe solennelle avec la chorale Penguine de France\, suivi d’un diner partagé. Les noms commençant de A à M apportent un plat salé\, et de N à Z le dessert. \nLes boissons sont offertes par la pastorale des peuples.
URL:https://spsp-courbevoie.fr/event/messe-des-peuples/
CATEGORIES:animation liturgie,Événements,paroisse
END:VEVENT
END:VCALENDAR