BEGIN:VCALENDAR
VERSION:2.0
PRODID:-//Paroisse Saint-Pierre-Saint-Paul de Courbevoie - ECPv6.15.20//NONSGML v1.0//EN
CALSCALE:GREGORIAN
METHOD:PUBLISH
X-ORIGINAL-URL:https://spsp-courbevoie.fr
X-WR-CALDESC:Évènements pour Paroisse Saint-Pierre-Saint-Paul de Courbevoie
REFRESH-INTERVAL;VALUE=DURATION:PT1H
X-Robots-Tag:noindex
X-PUBLISHED-TTL:PT1H
BEGIN:VTIMEZONE
TZID:UTC
BEGIN:STANDARD
TZOFFSETFROM:+0000
TZOFFSETTO:+0000
TZNAME:UTC
DTSTART:20200101T000000
END:STANDARD
END:VTIMEZONE
BEGIN:VEVENT
DTSTART;VALUE=DATE:20211224
DTEND;VALUE=DATE:20211225
DTSTAMP:20260423T211609
CREATED:20211211T133340Z
LAST-MODIFIED:20211223T165645Z
UID:5788-1640304000-1640390399@spsp-courbevoie.fr
SUMMARY:Messes de Noël
DESCRIPTION:Messes à:\n– 17h\n– 19h30\n– 22h30\, précédé d’une veillée à 22h
URL:https://spsp-courbevoie.fr/event/messes-de-noel/
CATEGORIES:animation liturgie
END:VEVENT
END:VCALENDAR