BEGIN:VCALENDAR
VERSION:2.0
PRODID:-//Paroisse Saint-Pierre-Saint-Paul de Courbevoie - ECPv6.15.20//NONSGML v1.0//EN
CALSCALE:GREGORIAN
METHOD:PUBLISH
X-ORIGINAL-URL:https://spsp-courbevoie.fr
X-WR-CALDESC:Évènements pour Paroisse Saint-Pierre-Saint-Paul de Courbevoie
REFRESH-INTERVAL;VALUE=DURATION:PT1H
X-Robots-Tag:noindex
X-PUBLISHED-TTL:PT1H
BEGIN:VTIMEZONE
TZID:UTC
BEGIN:STANDARD
TZOFFSETFROM:+0000
TZOFFSETTO:+0000
TZNAME:UTC
DTSTART:20240101T000000
END:STANDARD
END:VTIMEZONE
BEGIN:VEVENT
DTSTART;VALUE=DATE:20250531
DTEND;VALUE=DATE:20250602
DTSTAMP:20260423T000447
CREATED:20250530T214021Z
LAST-MODIFIED:20250530T214021Z
UID:8216-1748649600-1748822399@spsp-courbevoie.fr
SUMMARY:Pentecôte - Horaire messes
DESCRIPTION:samedi 31 mai : 18h30 \ndimanche 1e juin : 9h30 et 11h
URL:https://spsp-courbevoie.fr/event/pentecote-horaire-messes/
END:VEVENT
END:VCALENDAR