BEGIN:VCALENDAR
VERSION:2.0
PRODID:-//Paroisse Saint-Pierre-Saint-Paul de Courbevoie - ECPv6.15.20//NONSGML v1.0//EN
CALSCALE:GREGORIAN
METHOD:PUBLISH
X-ORIGINAL-URL:https://spsp-courbevoie.fr
X-WR-CALDESC:Évènements pour Paroisse Saint-Pierre-Saint-Paul de Courbevoie
REFRESH-INTERVAL;VALUE=DURATION:PT1H
X-Robots-Tag:noindex
X-PUBLISHED-TTL:PT1H
BEGIN:VTIMEZONE
TZID:UTC
BEGIN:STANDARD
TZOFFSETFROM:+0000
TZOFFSETTO:+0000
TZNAME:UTC
DTSTART:20230101T000000
END:STANDARD
END:VTIMEZONE
BEGIN:VEVENT
DTSTART;TZID=UTC:20241124T150000
DTEND;TZID=UTC:20241124T180000
DTSTAMP:20260423T091539
CREATED:20241007T204508Z
LAST-MODIFIED:20241007T204508Z
UID:7692-1732460400-1732471200@spsp-courbevoie.fr
SUMMARY:Exposition vente des œuvres des pères Jean-Paul et Thibaud
DESCRIPTION:Venez découvrir les dessins\, aquarelles et pastels du père Jean Paul\, et les photos inspirantes du père Thibaud autour d’un thé ou d’un café.\nSans oublier la lecture de poèmes du père Jean- Paul !\nEntrée libre. Les œuvres vendues contribueront\, pour moitié\, au financement d’une paroisse et de plusieurs écoles en Haïti.
URL:https://spsp-courbevoie.fr/event/exposition-vente-des-oeuvres-des-peres-jean-paul-et-thibaud/
END:VEVENT
END:VCALENDAR