BEGIN:VCALENDAR
VERSION:2.0
PRODID:-//Paroisse Saint-Pierre-Saint-Paul de Courbevoie - ECPv6.15.20//NONSGML v1.0//EN
CALSCALE:GREGORIAN
METHOD:PUBLISH
X-ORIGINAL-URL:https://spsp-courbevoie.fr
X-WR-CALDESC:Évènements pour Paroisse Saint-Pierre-Saint-Paul de Courbevoie
REFRESH-INTERVAL;VALUE=DURATION:PT1H
X-Robots-Tag:noindex
X-PUBLISHED-TTL:PT1H
BEGIN:VTIMEZONE
TZID:UTC
BEGIN:STANDARD
TZOFFSETFROM:+0000
TZOFFSETTO:+0000
TZNAME:UTC
DTSTART:20220101T000000
END:STANDARD
END:VTIMEZONE
BEGIN:VEVENT
DTSTART;TZID=UTC:20230407T203000
DTEND;TZID=UTC:20230407T203000
DTSTAMP:20260424T131908
CREATED:20230407T001445Z
LAST-MODIFIED:20230407T001445Z
UID:6825-1680899400-1680899400@spsp-courbevoie.fr
SUMMARY:Office du vendredi Saint
DESCRIPTION:
URL:https://spsp-courbevoie.fr/event/office-du-vendredi-saint/
END:VEVENT
END:VCALENDAR