BEGIN:VCALENDAR
VERSION:2.0
PRODID:-//Paroisse Saint-Pierre-Saint-Paul de Courbevoie - ECPv6.15.20//NONSGML v1.0//EN
CALSCALE:GREGORIAN
METHOD:PUBLISH
X-WR-CALNAME:Paroisse Saint-Pierre-Saint-Paul de Courbevoie
X-ORIGINAL-URL:https://spsp-courbevoie.fr
X-WR-CALDESC:Évènements pour Paroisse Saint-Pierre-Saint-Paul de Courbevoie
REFRESH-INTERVAL;VALUE=DURATION:PT1H
X-Robots-Tag:noindex
X-PUBLISHED-TTL:PT1H
BEGIN:VTIMEZONE
TZID:UTC
BEGIN:STANDARD
TZOFFSETFROM:+0000
TZOFFSETTO:+0000
TZNAME:UTC
DTSTART:20220101T000000
END:STANDARD
END:VTIMEZONE
BEGIN:VEVENT
DTSTART;TZID=UTC:20230317T193000
DTEND;TZID=UTC:20230317T193000
DTSTAMP:20260424T144220
CREATED:20230218T165823Z
LAST-MODIFIED:20230218T165823Z
UID:6698-1679081400-1679081400@spsp-courbevoie.fr
SUMMARY:Soiree spirituelle
DESCRIPTION:Les vendredis 10\, 17\, 24 et 31 mars : Chemin de croix dans l’église de 19h30 à 20h suivi d’une veillée spirituelle jusqu’à 21h organisée par différents groupes paroissiaux La soirée se terminera par le partage d’un bol de riz.
URL:https://spsp-courbevoie.fr/event/soiree-spirituelle-2/
END:VEVENT
END:VCALENDAR