BEGIN:VCALENDAR
VERSION:2.0
PRODID:-//Paroisse Saint-Pierre-Saint-Paul de Courbevoie - ECPv6.15.20//NONSGML v1.0//EN
CALSCALE:GREGORIAN
METHOD:PUBLISH
X-ORIGINAL-URL:https://spsp-courbevoie.fr
X-WR-CALDESC:Évènements pour Paroisse Saint-Pierre-Saint-Paul de Courbevoie
REFRESH-INTERVAL;VALUE=DURATION:PT1H
X-Robots-Tag:noindex
X-PUBLISHED-TTL:PT1H
BEGIN:VTIMEZONE
TZID:UTC
BEGIN:STANDARD
TZOFFSETFROM:+0000
TZOFFSETTO:+0000
TZNAME:UTC
DTSTART:20220101T000000
END:STANDARD
END:VTIMEZONE
BEGIN:VEVENT
DTSTART;VALUE=DATE:20230312
DTEND;VALUE=DATE:20230313
DTSTAMP:20260424T144520
CREATED:20230218T170152Z
LAST-MODIFIED:20230218T170431Z
UID:6704-1678579200-1678665599@spsp-courbevoie.fr
SUMMARY:MARCHE DES VOCATIONS - MONASTÈRE INVISIBLE
DESCRIPTION:Le dimanche 12 mars la première « marche des vocations »\, présidée par Mgr Mathieu Rougé\, aura lieu dans notre diocèse entre Saint Clodoald de Saint Cloud et Saint Jean-Baptiste de Neuilly.\nCet évènement nous permettra de marcher et de prier pour les vocations\, en particulier pour les vocations sacerdotales et religieuses dont nous avons tant besoin dans notre diocèse.\nCette marche est ouverte à tous (enfants\, jeunes et adultes) et à vivre ensemble (en paroisse\, en famille\, en communauté) avec notre évêque. \nLE PROGRAMME \n\n13h30 – Messe présidée par Mgr Matthieu Rougé à l’église Saint-Clodoald de St-Cloud\, suivie de la démarche jubilaire.\n\n\n15h: bénédiction et début de la marche en direction de l’église Saint-Jean-Baptiste de Neuilly.\n17h: arrivée à Saint-Jean-Baptiste : témoignage\, prière des vocations devant les reliques de Saint Jean-Paul II.\n\nPOURQUOI EST-CE IMPORTANT D’Y PARTICIPER ?\nParce que sommes tous concernés par les vocations ! Nous avons besoin de nombreux prêtres « pour nous donner les sacrements\, nous expliquer l’Évangile du Christ\, nous enseigner à devenir de vrais enfants de Dieu ». Nous avons besoin de nombreux consacrés\, religieux et religieuses pour nous accompagner spirituellement\, pour témoigner de la joie de l’Evangile\, pour prier pour les intentions de notre Diocèse. \nAlors\, inscrivez-vous\, et parlez-en autour de vous ! \n\nJE M’INSCRIS\n\nou par mail à : acaudal57@gmail.com
URL:https://spsp-courbevoie.fr/event/marche-des-vocations-monastere-invisible/
END:VEVENT
END:VCALENDAR