BEGIN:VCALENDAR
VERSION:2.0
PRODID:-//Paroisse Saint-Pierre-Saint-Paul de Courbevoie - ECPv6.15.20//NONSGML v1.0//EN
CALSCALE:GREGORIAN
METHOD:PUBLISH
X-WR-CALNAME:Paroisse Saint-Pierre-Saint-Paul de Courbevoie
X-ORIGINAL-URL:https://spsp-courbevoie.fr
X-WR-CALDESC:Évènements pour Paroisse Saint-Pierre-Saint-Paul de Courbevoie
REFRESH-INTERVAL;VALUE=DURATION:PT1H
X-Robots-Tag:noindex
X-PUBLISHED-TTL:PT1H
BEGIN:VTIMEZONE
TZID:UTC
BEGIN:STANDARD
TZOFFSETFROM:+0000
TZOFFSETTO:+0000
TZNAME:UTC
DTSTART:20220101T000000
END:STANDARD
END:VTIMEZONE
BEGIN:VEVENT
DTSTART;VALUE=DATE:20230222
DTEND;VALUE=DATE:20230223
DTSTAMP:20260424T160814
CREATED:20230218T165517Z
LAST-MODIFIED:20230218T165517Z
UID:6694-1677024000-1677110399@spsp-courbevoie.fr
SUMMARY:Mercredi des Cendres
DESCRIPTION:Messes a 12h et 19h30 avec imposition des cendres
URL:https://spsp-courbevoie.fr/event/mercredi-des-cendres/
END:VEVENT
END:VCALENDAR