BEGIN:VCALENDAR
VERSION:2.0
PRODID:-//Paroisse Saint-Pierre-Saint-Paul de Courbevoie - ECPv6.15.20//NONSGML v1.0//EN
CALSCALE:GREGORIAN
METHOD:PUBLISH
X-WR-CALNAME:Paroisse Saint-Pierre-Saint-Paul de Courbevoie
X-ORIGINAL-URL:https://spsp-courbevoie.fr
X-WR-CALDESC:Évènements pour Paroisse Saint-Pierre-Saint-Paul de Courbevoie
REFRESH-INTERVAL;VALUE=DURATION:PT1H
X-Robots-Tag:noindex
X-PUBLISHED-TTL:PT1H
BEGIN:VTIMEZONE
TZID:UTC
BEGIN:STANDARD
TZOFFSETFROM:+0000
TZOFFSETTO:+0000
TZNAME:UTC
DTSTART:20210101T000000
END:STANDARD
END:VTIMEZONE
BEGIN:VEVENT
DTSTART;TZID=UTC:20221215T170000
DTEND;TZID=UTC:20221215T190000
DTSTAMP:20260424T190624
CREATED:20221204T214517Z
LAST-MODIFIED:20221204T214529Z
UID:6567-1671123600-1671130800@spsp-courbevoie.fr
SUMMARY:Cérémonie pénitentielle
DESCRIPTION:Cérémonie pénitentielle de 17h à 22h avec confessions\nindividuelles (église)
URL:https://spsp-courbevoie.fr/event/ceremonie-penitentielle/
ATTACH;FMTTYPE=image/png:https://spsp-courbevoie.fr/wp-content/uploads/2022/12/53B383BB-58A8-45FB-9651-C59CB47949CA.png
END:VEVENT
END:VCALENDAR