BEGIN:VCALENDAR
VERSION:2.0
PRODID:-//Paroisse Saint-Pierre-Saint-Paul de Courbevoie - ECPv6.15.20//NONSGML v1.0//EN
CALSCALE:GREGORIAN
METHOD:PUBLISH
X-WR-CALNAME:Paroisse Saint-Pierre-Saint-Paul de Courbevoie
X-ORIGINAL-URL:https://spsp-courbevoie.fr
X-WR-CALDESC:Évènements pour Paroisse Saint-Pierre-Saint-Paul de Courbevoie
REFRESH-INTERVAL;VALUE=DURATION:PT1H
X-Robots-Tag:noindex
X-PUBLISHED-TTL:PT1H
BEGIN:VTIMEZONE
TZID:UTC
BEGIN:STANDARD
TZOFFSETFROM:+0000
TZOFFSETTO:+0000
TZNAME:UTC
DTSTART:20200101T000000
END:STANDARD
END:VTIMEZONE
BEGIN:VEVENT
DTSTART;TZID=UTC:20210910T160000
DTEND;TZID=UTC:20210910T193000
DTSTAMP:20260425T171024
CREATED:20210629T204041Z
LAST-MODIFIED:20210629T210006Z
UID:5394-1631289600-1631302200@spsp-courbevoie.fr
SUMMARY:Inscription Aumônerie Collège et Lycée
DESCRIPTION:mercredi 1er septembre 2021\nvendredi 10 septembre 2021\n\nde 16h à 19h30 \nEt aux heures de permanence (hors vacances scolaires) \nSur place ou par tél : 01 47 89 94 00 \nlundi et mardi  10H-14H\njeudi/vendredi  15H-17H\nsamedi  10H-12H \nFiche_sanitaire_2021-2022 \nDOSSIER INSCRIPTION JEUNES 2021-2022
URL:https://spsp-courbevoie.fr/event/inscription-aumonerie-college-et-lycee/
ATTACH;FMTTYPE=image/png:https://spsp-courbevoie.fr/wp-content/uploads/2020/07/logo-aumonerie-3.png
END:VEVENT
END:VCALENDAR