BEGIN:VCALENDAR
VERSION:2.0
PRODID:-//Paroisse Saint-Pierre-Saint-Paul de Courbevoie - ECPv6.15.20//NONSGML v1.0//EN
CALSCALE:GREGORIAN
METHOD:PUBLISH
X-ORIGINAL-URL:https://spsp-courbevoie.fr
X-WR-CALDESC:Évènements pour Paroisse Saint-Pierre-Saint-Paul de Courbevoie
REFRESH-INTERVAL;VALUE=DURATION:PT1H
X-Robots-Tag:noindex
X-PUBLISHED-TTL:PT1H
BEGIN:VTIMEZONE
TZID:UTC
BEGIN:STANDARD
TZOFFSETFROM:+0000
TZOFFSETTO:+0000
TZNAME:UTC
DTSTART:20200101T000000
END:STANDARD
END:VTIMEZONE
BEGIN:VEVENT
DTSTART;TZID=UTC:20210627T110000
DTEND;TZID=UTC:20210627T110000
DTSTAMP:20260425T213323
CREATED:20210624T202829Z
LAST-MODIFIED:20210624T202829Z
UID:5366-1624791600-1624791600@spsp-courbevoie.fr
SUMMARY:Solennité de Saint-Pierre et Saint-Paul
DESCRIPTION:Première messe de Thibaut Guespereau\, nouvellement ordonné. \nMesse suivie d’un apéritif à la maison paroissiale. \nNous dirons au revoir au père Louis et au Père Thibaut qui nous quitte à la rentrée.
URL:https://spsp-courbevoie.fr/event/solennite-de-saint-pierre-et-saint-paul/
END:VEVENT
END:VCALENDAR