BEGIN:VCALENDAR
VERSION:2.0
PRODID:-//Paroisse Saint-Pierre-Saint-Paul de Courbevoie - ECPv6.15.20//NONSGML v1.0//EN
CALSCALE:GREGORIAN
METHOD:PUBLISH
X-ORIGINAL-URL:https://spsp-courbevoie.fr
X-WR-CALDESC:Évènements pour Paroisse Saint-Pierre-Saint-Paul de Courbevoie
REFRESH-INTERVAL;VALUE=DURATION:PT1H
X-Robots-Tag:noindex
X-PUBLISHED-TTL:PT1H
BEGIN:VTIMEZONE
TZID:UTC
BEGIN:STANDARD
TZOFFSETFROM:+0000
TZOFFSETTO:+0000
TZNAME:UTC
DTSTART:20200101T000000
END:STANDARD
END:VTIMEZONE
BEGIN:VEVENT
DTSTART;VALUE=DATE:20210620
DTEND;VALUE=DATE:20210621
DTSTAMP:20260425T213323
CREATED:20210527T212923Z
LAST-MODIFIED:20210606T144305Z
UID:5277-1624147200-1624233599@spsp-courbevoie.fr
SUMMARY:Marche des mères de famille dans le Vexin
DESCRIPTION:Une journée pour prier\, faire de belles rencontres et se ressourcer a travers des paysages magnifiques\, a 1 heure de Courbevoie\, dans le Vexin\, par les villages de Gommecourt\, la Roche Guyon\, Fourges… \nAccompagnees par le pere Yvan. \nouvert à toutes les femmes. \nrenseignements et inscriptions : \nCamille d’A. : 06 85 19 46 51 \net secretariat paroissial : secretariat@spsp-courbevoie.fr \nLa Roche Guyon\n \nFourges
URL:https://spsp-courbevoie.fr/event/marche-de-meres-de-famille/
ATTACH;FMTTYPE=image/jpeg:https://spsp-courbevoie.fr/wp-content/uploads/2021/05/1BBD82CE-B7DE-49DA-9899-CD27854D0CEB-scaled.jpeg
END:VEVENT
END:VCALENDAR