BEGIN:VCALENDAR
VERSION:2.0
PRODID:-//Paroisse Saint-Pierre-Saint-Paul de Courbevoie - ECPv6.15.20//NONSGML v1.0//EN
CALSCALE:GREGORIAN
METHOD:PUBLISH
X-WR-CALNAME:Paroisse Saint-Pierre-Saint-Paul de Courbevoie
X-ORIGINAL-URL:https://spsp-courbevoie.fr
X-WR-CALDESC:Évènements pour Paroisse Saint-Pierre-Saint-Paul de Courbevoie
REFRESH-INTERVAL;VALUE=DURATION:PT1H
X-Robots-Tag:noindex
X-PUBLISHED-TTL:PT1H
BEGIN:VTIMEZONE
TZID:UTC
BEGIN:STANDARD
TZOFFSETFROM:+0000
TZOFFSETTO:+0000
TZNAME:UTC
DTSTART:20200101T000000
END:STANDARD
END:VTIMEZONE
BEGIN:VEVENT
DTSTART;VALUE=DATE:20210611
DTEND;VALUE=DATE:20210614
DTSTAMP:20260425T213209
CREATED:20210527T211628Z
LAST-MODIFIED:20210527T212217Z
UID:5272-1623369600-1623628799@spsp-courbevoie.fr
SUMMARY:Pelerinage des meres de famille a Vezelay
DESCRIPTION:Bulletin d’inscription   \nNos motivations pour venir sont variées\, \nsimple curiosité\, questionnement\, situation difficile\,  étape d’une réflexion personnelle\, besoin de sens\, intentions à porter\, envie de partage\, de remerciements\, de silence\, ou tout simplement de nature et de marche. \n\nNos situations personnelles sont tout aussi diversifiées\, mariées\, divorcées\, veuves\, célibataires ou en couple mais toutes femmes\, chacune à sa manière. \n\nNos convictions personnelles enfin vont du presque rien au presque tout : non baptisées\, éloignées ou pratiquantes régulières. \n\nEt pour nous toutes en commun une relation à \ninitier\, créer\, explorer avec Dieu. \nAlors…   prenons la route… \nENSEMBLE !!! \nsdr
URL:https://spsp-courbevoie.fr/event/pelerinage-des-meres-de-famille-a-vezelay/
ATTACH;FMTTYPE=image/png:https://spsp-courbevoie.fr/wp-content/uploads/2018/11/Vezelay-e1588876723413.png
END:VEVENT
END:VCALENDAR