BEGIN:VCALENDAR
VERSION:2.0
PRODID:-//Paroisse Saint-Pierre-Saint-Paul de Courbevoie - ECPv6.15.20//NONSGML v1.0//EN
CALSCALE:GREGORIAN
METHOD:PUBLISH
X-ORIGINAL-URL:https://spsp-courbevoie.fr
X-WR-CALDESC:Évènements pour Paroisse Saint-Pierre-Saint-Paul de Courbevoie
REFRESH-INTERVAL;VALUE=DURATION:PT1H
X-Robots-Tag:noindex
X-PUBLISHED-TTL:PT1H
BEGIN:VTIMEZONE
TZID:UTC
BEGIN:STANDARD
TZOFFSETFROM:+0000
TZOFFSETTO:+0000
TZNAME:UTC
DTSTART:20200101T000000
END:STANDARD
END:VTIMEZONE
BEGIN:VEVENT
DTSTART;TZID=UTC:20210320T160000
DTEND;TZID=UTC:20210320T160000
DTSTAMP:20260426T013341
CREATED:20210312T215809Z
LAST-MODIFIED:20210312T222501Z
UID:5101-1616256000-1616256000@spsp-courbevoie.fr
SUMMARY:Solennité de saint Joseph
DESCRIPTION:Notre paroisse Saint-Pierre-Saint-Paul de Courbevoie sera consacrée à saint Joseph le samedi 20 mars à 16h dans la chapelle qui lui est dédiée :\nchants\, méditation\, prière de consécration; messe et bénédiction solennelle à 16h30 dans l’église. N’oubliez-pas de prier la neuvaine\, à votre disposition au fond de l’église
URL:https://spsp-courbevoie.fr/event/solennite-de-saint-joseph/
ATTACH;FMTTYPE=image/jpeg:https://spsp-courbevoie.fr/wp-content/uploads/2021/03/6CEEBD6A-6335-41F5-A822-2FC1D5915B6C.jpeg
END:VEVENT
END:VCALENDAR